BEGIN:VCALENDAR
VERSION:2.0
PRODID:icalendar-ruby
CALSCALE:GREGORIAN
METHOD:PUBLISH
BEGIN:VEVENT
DTSTAMP:20260419T135258Z
UID:5-326435@mifamiliasencristo.com
DTSTART:20261001T030000Z
DTEND:20261001T050000Z
CLASS:PUBLIC
CREATED:20260419T055704
DESCRIPTION:
LAST-MODIFIED:20260419T055704
LOCATION:
SUMMARY:Servicio del Miercoles
URL;VALUE=URI:https://mifamiliasencristo.com/events/servicio-del-miercoles/
 2026-09-30
END:VEVENT
END:VCALENDAR
