BEGIN:VCALENDAR
VERSION:2.0
PRODID:icalendar-ruby
CALSCALE:GREGORIAN
METHOD:PUBLISH
BEGIN:VEVENT
DTSTAMP:20260419T154035Z
UID:5-326436@mifamiliasencristo.com
DTSTART:20261008T030000Z
DTEND:20261008T050000Z
CLASS:PUBLIC
CREATED:20260419T055704
DESCRIPTION:
LAST-MODIFIED:20260419T055704
LOCATION:
SUMMARY:Servicio del Miercoles
URL;VALUE=URI:https://mifamiliasencristo.com/events/servicio-del-miercoles/
 2026-10-07
END:VEVENT
END:VCALENDAR
