BEGIN:VCALENDAR
VERSION:2.0
PRODID:icalendar-ruby
CALSCALE:GREGORIAN
METHOD:PUBLISH
BEGIN:VEVENT
DTSTAMP:20260419T190337Z
UID:5-326676@mifamiliasencristo.com
DTSTART:20261022T030000Z
DTEND:20261022T050000Z
CLASS:PUBLIC
CREATED:20260419T093900
DESCRIPTION:
LAST-MODIFIED:20260419T093900
LOCATION:
SUMMARY:Servicio del Miercoles
URL;VALUE=URI:https://mifamiliasencristo.com/events/servicio-del-miercoles/
 2026-10-21
END:VEVENT
END:VCALENDAR
