BEGIN:VCALENDAR
VERSION:2.0
PRODID:icalendar-ruby
CALSCALE:GREGORIAN
METHOD:PUBLISH
BEGIN:VEVENT
DTSTAMP:20260421T110710Z
UID:2-328935@mifamiliasencristo.com
DTSTART:20261011T030000Z
DTEND:20261011T050000Z
CLASS:PUBLIC
CREATED:20260420T175713
DESCRIPTION:
LAST-MODIFIED:20260420T175713
LOCATION:
SUMMARY:Servicio del Sábado
URL;VALUE=URI:https://mifamiliasencristo.com/events/servicio-del-sabado/202
 6-10-10
END:VEVENT
END:VCALENDAR
