BEGIN:VCALENDAR
VERSION:2.0
PRODID:icalendar-ruby
CALSCALE:GREGORIAN
METHOD:PUBLISH
BEGIN:VEVENT
DTSTAMP:20260421T142440Z
UID:2-329175@mifamiliasencristo.com
DTSTART:20261025T030000Z
DTEND:20261025T050000Z
CLASS:PUBLIC
CREATED:20260421T050358
DESCRIPTION:
LAST-MODIFIED:20260421T050358
LOCATION:
SUMMARY:Servicio del Sábado
URL;VALUE=URI:https://mifamiliasencristo.com/events/servicio-del-sabado/202
 6-10-24
END:VEVENT
END:VCALENDAR
