BEGIN:VCALENDAR
VERSION:2.0
PRODID:icalendar-ruby
CALSCALE:GREGORIAN
METHOD:PUBLISH
BEGIN:VEVENT
DTSTAMP:20260421T154552Z
UID:2-329414@mifamiliasencristo.com
DTSTART:20261101T030000Z
DTEND:20261101T050000Z
CLASS:PUBLIC
CREATED:20260421T073929
DESCRIPTION:
LAST-MODIFIED:20260421T073929
LOCATION:
SUMMARY:Servicio del Sábado
URL;VALUE=URI:https://mifamiliasencristo.com/events/servicio-del-sabado/202
 6-10-31
END:VEVENT
END:VCALENDAR
